BEGIN:VCALENDAR
VERSION:2.0
PRODID:createcal 1.0.16
X-WR-CALNAME:CSE P544 15au Other
X-WR-LOCATION:America/Los_Angeles
X-WR-TIMEZONE:America/Los_Angeles
BEGIN:VEVENT
DTEND:20150930T182000
DTSTAMP:20151208T224656Z
DTSTART:20150930T173000
EXDATE:20150930T173000\,20151104T173000\,20151111T173000\,20151209T173000
LOCATION:CSE 662
RRULE:FREQ=WEEKLY;INTERVAL=1;UNTIL=20151211T235959;WKST=WE;BYDAY=WE
SUMMARY:544 Dan Suciu
UID:544-201512081446561449614816.3723400@cs.washington.edu
X-CREATECAL-EVENTTYPE:oh
END:VEVENT
BEGIN:VEVENT
DTEND:20151005T182000
DTSTAMP:20151208T224656Z
DTSTART:20151005T173000
LOCATION:CSE 218
RRULE:FREQ=WEEKLY;INTERVAL=1;UNTIL=20151211T235959;WKST=WE;BYDAY=MO
SUMMARY:544 Laurel Orr
UID:544-201512081446561449614816.3738701@cs.washington.edu
X-CREATECAL-EVENTTYPE:oh
END:VEVENT
END:VCALENDAR
