BEGIN:VCALENDAR
VERSION:2.0
PRODID:createcal 1.0.16
X-WR-CALNAME:CSE P544 15au Lecture A
X-WR-LOCATION:America/Los_Angeles
X-WR-TIMEZONE:America/Los_Angeles
BEGIN:VEVENT
DESCRIPTION:1. Course Overview\, SQL\nMaterials: Slides
DTEND:20151005T212000
DTSTAMP:20151208T224656Z
DTSTART:20151005T183000
LOCATION:CSE 305
SUMMARY:544 Lecture
UID:544-201512081446561449614816.3909402@cs.washington.edu
X-CREATECAL-EVENTTYPE:lecture
END:VEVENT
BEGIN:VEVENT
DESCRIPTION:2. Relational Query Languages\, Conceptual Design\nMaterials: S
 lides
DTEND:20151012T212000
DTSTAMP:20151208T224656Z
DTSTART:20151012T183000
LOCATION:CSE 305
SUMMARY:544 Lecture
UID:544-201512081446561449614816.3926303@cs.washington.edu
X-CREATECAL-EVENTTYPE:lecture
END:VEVENT
BEGIN:VEVENT
DTEND:20151012T150000
DTSTAMP:20151208T224656Z
DTSTART:20151012T150000
SUMMARY:544 Review: Blog on Big Data (Stonebraker)
UID:544-201512081446561449614816.393304@cs.washington.edu
X-CREATECAL-EVENTTYPE:other
END:VEVENT
BEGIN:VEVENT
DTEND:20151012T150000
DTSTAMP:20151208T224656Z
DTSTART:20151012T150000
SUMMARY:544 Review: What goes around
UID:544-201512081446561449614816.3938305@cs.washington.edu
X-CREATECAL-EVENTTYPE:other
END:VEVENT
BEGIN:VEVENT
DESCRIPTION:3. Conceptual Design (continued)\, Data storage\, Indexes\, Phy
 sical Tuning\nMaterials: Slides
DTEND:20151019T212000
DTSTAMP:20151208T224656Z
DTSTART:20151019T183000
LOCATION:CSE 305
SUMMARY:544 Lecture
UID:544-201512081446561449614816.3952606@cs.washington.edu
X-CREATECAL-EVENTTYPE:lecture
END:VEVENT
BEGIN:VEVENT
DTEND:20151019T150000
DTSTAMP:20151208T224656Z
DTSTART:20151019T150000
SUMMARY:544 Review: PAX Paper
UID:544-201512081446561449614816.3959307@cs.washington.edu
X-CREATECAL-EVENTTYPE:other
END:VEVENT
BEGIN:VEVENT
DTEND:20151020T230000
DTSTAMP:20151208T224656Z
DTSTART:20151020T230000
SUMMARY:544 HW1: SQL
UID:544-201512081446561449614816.3964408@cs.washington.edu
X-CREATECAL-EVENTTYPE:hw
END:VEVENT
BEGIN:VEVENT
DESCRIPTION:4. Query Execution  / Query Optimization\nMaterials: Slides
DTEND:20151026T212000
DTSTAMP:20151208T224656Z
DTSTART:20151026T183000
LOCATION:CSE 305
SUMMARY:544 Lecture
UID:544-201512081446561449614816.3978809@cs.washington.edu
X-CREATECAL-EVENTTYPE:lecture
END:VEVENT
BEGIN:VEVENT
DTEND:20151026T150000
DTSTAMP:20151208T224656Z
DTSTART:20151026T150000
SUMMARY:544 Review: Selectivity Estimation
UID:544-201512081446561449614816.3985610@cs.washington.edu
X-CREATECAL-EVENTTYPE:other
END:VEVENT
BEGIN:VEVENT
DTEND:20151030T230000
DTSTAMP:20151208T224656Z
DTSTART:20151030T230000
SUMMARY:544 HW2: Relational Query Languages and Conceptual Design
UID:544-201512081446561449614816.3990611@cs.washington.edu
X-CREATECAL-EVENTTYPE:hw
END:VEVENT
BEGIN:VEVENT
DESCRIPTION:5. Query Optimization and Advanced Topics\; Parallel Databases 
 and MapReduce\nMaterials: Slides
DTEND:20151102T212000
DTSTAMP:20151208T224656Z
DTSTART:20151102T183000
LOCATION:CSE 305
SUMMARY:544 Lecture
UID:544-201512081446561449614816.4004912@cs.washington.edu
X-CREATECAL-EVENTTYPE:lecture
END:VEVENT
BEGIN:VEVENT
DTEND:20151102T150000
DTSTAMP:20151208T224656Z
DTSTART:20151102T150000
SUMMARY:544 Review: Blog on MR\, Join paper
UID:544-201512081446561449614816.4011713@cs.washington.edu
X-CREATECAL-EVENTTYPE:other
END:VEVENT
BEGIN:VEVENT
DESCRIPTION:6. Parallel DB and MR (finish)\, Transactions: Recovery (start)
 \nMaterials: Slides
DTEND:20151109T212000
DTSTAMP:20151208T224656Z
DTSTART:20151109T183000
LOCATION:CSE 305
SUMMARY:544 Lecture
UID:544-201512081446561449614816.4026214@cs.washington.edu
X-CREATECAL-EVENTTYPE:lecture
END:VEVENT
BEGIN:VEVENT
DTEND:20151109T150000
DTSTAMP:20151208T224656Z
DTSTART:20151109T150000
SUMMARY:544 Review: MapReduce
UID:544-201512081446561449614816.4032915@cs.washington.edu
X-CREATECAL-EVENTTYPE:other
END:VEVENT
BEGIN:VEVENT
DTEND:20151113T230000
DTSTAMP:20151208T224656Z
DTSTART:20151113T230000
SUMMARY:544 HW3: PigLatin on Amazon Web Services
UID:544-201512081446561449614816.4038116@cs.washington.edu
X-CREATECAL-EVENTTYPE:hw
END:VEVENT
BEGIN:VEVENT
DESCRIPTION:7. Transactions: concurrency control\nMaterials: Slides
DTEND:20151116T212000
DTSTAMP:20151208T224656Z
DTSTART:20151116T183000
LOCATION:CSE 305
SUMMARY:544 Lecture
UID:544-201512081446561449614816.4052417@cs.washington.edu
X-CREATECAL-EVENTTYPE:lecture
END:VEVENT
BEGIN:VEVENT
DESCRIPTION:8. Datalog\nMaterials: Slides
DTEND:20151123T212000
DTSTAMP:20151208T224656Z
DTSTART:20151123T183000
LOCATION:CSE 305
SUMMARY:544 Lecture
UID:544-201512081446561449614816.4068418@cs.washington.edu
X-CREATECAL-EVENTTYPE:lecture
END:VEVENT
BEGIN:VEVENT
DTEND:20151124T230000
DTSTAMP:20151208T224656Z
DTSTART:20151124T230000
SUMMARY:544 HW4: DB Application
UID:544-201512081446561449614816.4075219@cs.washington.edu
X-CREATECAL-EVENTTYPE:hw
END:VEVENT
BEGIN:VEVENT
DESCRIPTION:9. Advanced Query Processing\nMaterials: Part 1 Part 2
DTEND:20151130T212000
DTSTAMP:20151208T224656Z
DTSTART:20151130T183000
LOCATION:CSE 305
SUMMARY:544 Lecture
UID:544-201512081446561449614816.4089520@cs.washington.edu
X-CREATECAL-EVENTTYPE:lecture
END:VEVENT
BEGIN:VEVENT
DTEND:20151130T150000
DTSTAMP:20151208T224656Z
DTSTART:20151130T150000
SUMMARY:544 Review: Imperative Declarative
UID:544-201512081446561449614816.4096321@cs.washington.edu
X-CREATECAL-EVENTTYPE:other
END:VEVENT
BEGIN:VEVENT
DTEND:20151206T230000
DTSTAMP:20151208T224656Z
DTSTART:20151206T230000
SUMMARY:544 HW5: Transaction Theory\, Query execution\, Datalog\, Provenanc
 e
UID:544-201512081446561449614816.4101422@cs.washington.edu
X-CREATECAL-EVENTTYPE:hw
END:VEVENT
BEGIN:VEVENT
DESCRIPTION:10. Column Stores\, NoSQL\nMaterials: Slides
DTEND:20151207T212000
DTSTAMP:20151208T224656Z
DTSTART:20151207T183000
LOCATION:CSE 305
SUMMARY:544 Lecture
UID:544-201512081446561449614816.4115823@cs.washington.edu
X-CREATECAL-EVENTTYPE:lecture
END:VEVENT
BEGIN:VEVENT
DTEND:20151207T150000
DTSTAMP:20151208T224656Z
DTSTART:20151207T150000
SUMMARY:544 Review: NoSQL\, Column Store
UID:544-201512081446561449614816.4122424@cs.washington.edu
X-CREATECAL-EVENTTYPE:other
END:VEVENT
BEGIN:VEVENT
DTEND:20151209T235900
DTSTAMP:20151208T224656Z
DTSTART:20151209T080000
SUMMARY:544 Take-home\, online exam
UID:544-201512081446561449614816.4128425@cs.washington.edu
X-CREATECAL-EVENTTYPE:exam
END:VEVENT
BEGIN:VEVENT
DTEND:20151210T200000
DTSTAMP:20151208T224656Z
DTSTART:20151210T000000
SUMMARY:544 Take-home\, online exam
UID:544-201512081446561449614816.4134126@cs.washington.edu
X-CREATECAL-EVENTTYPE:exam
END:VEVENT
END:VCALENDAR
