BEGIN:VCALENDAR
VERSION:2.0
PRODID:Data::ICal 0.21
X-WR-CALNAME:CSE P544 14wi Other
X-WR-LOCATION:America/Los_Angeles
X-WR-TIMEZONE:America/Los_Angeles
BEGIN:VEVENT
DTEND:20140106T180000
DTSTAMP:20140313T061233Z
DTSTART:20140106T170000
LOCATION:CSE 220
RRULE:FREQ=WEEKLY;INTERVAL=1;UNTIL=20140314T235959;WKST=WE;BYDAY=MO
SUMMARY:544 Priya Priya Rao Chagaleti
UID:544-201403122312331394691153.9670900@cs.washington.edu
END:VEVENT
BEGIN:VEVENT
DTEND:20140107T182000
DTSTAMP:20140313T061233Z
DTSTART:20140107T173000
LOCATION:CSE 662
RRULE:FREQ=WEEKLY;INTERVAL=1;UNTIL=20140314T235959;WKST=WE;BYDAY=TU
SUMMARY:544 Dan Suciu
UID:544-201403122312331394691153.9683201@cs.washington.edu
END:VEVENT
END:VCALENDAR
