BEGIN:VCALENDAR
VERSION:2.0
PRODID:Data::ICal 0.21
X-WR-CALNAME:CSE P544 14wi Lecture A
X-WR-LOCATION:America/Los_Angeles
X-WR-TIMEZONE:America/Los_Angeles
BEGIN:VEVENT
DESCRIPTION:1. Course Overview\, SQL\nMaterials: Slides
DTEND:20140107T212000
DTSTAMP:20140313T061233Z
DTSTART:20140107T183000
LOCATION:CSE 305
SUMMARY:544 Lecture
UID:544-201403122312331394691153.9712302@cs.washington.edu
END:VEVENT
BEGIN:VEVENT
DESCRIPTION:2. Relational Query Languages\, Conceptual Design\nMaterials: S
 lides \, Supp. material
DTEND:20140114T212000
DTSTAMP:20140313T061233Z
DTSTART:20140114T183000
LOCATION:CSE 305
SUMMARY:544 Lecture
UID:544-201403122312331394691153.9726803@cs.washington.edu
END:VEVENT
BEGIN:VEVENT
DTEND:20140114T235900
DTSTAMP:20140313T061233Z
DTSTART:20140114T235900
SUMMARY:544 Review: Blog on Big Data (Stonebraker)
UID:544-201403122312331394691153.9732304@cs.washington.edu
END:VEVENT
BEGIN:VEVENT
DTEND:20140120T230000
DTSTAMP:20140313T061233Z
DTSTART:20140120T230000
SUMMARY:544 HW1: SQL Solution
UID:544-201403122312331394691153.9736805@cs.washington.edu
END:VEVENT
BEGIN:VEVENT
DESCRIPTION:3. Data storage\, Indexes\, Physical Tuning\nMaterials: Slides
DTEND:20140121T212000
DTSTAMP:20140313T061233Z
DTSTART:20140121T183000
LOCATION:CSE 305
SUMMARY:544 Lecture
UID:544-201403122312331394691153.9749806@cs.washington.edu
END:VEVENT
BEGIN:VEVENT
DTEND:20140121T235900
DTSTAMP:20140313T061233Z
DTSTART:20140121T235900
SUMMARY:544 Review: PAX Paper
UID:544-201403122312331394691153.9755207@cs.washington.edu
END:VEVENT
BEGIN:VEVENT
DTEND:20140127T230000
DTSTAMP:20140313T061233Z
DTSTART:20140127T230000
SUMMARY:544 HW2: Relational Query Languages and Conceptual Design Solution
UID:544-201403122312331394691153.9759408@cs.washington.edu
END:VEVENT
BEGIN:VEVENT
DESCRIPTION:4. Query Execution  / Query Optimization\nMaterials: Slides
DTEND:20140128T212000
DTSTAMP:20140313T061233Z
DTSTART:20140128T183000
LOCATION:CSE 305
SUMMARY:544 Lecture
UID:544-201403122312331394691153.9772309@cs.washington.edu
END:VEVENT
BEGIN:VEVENT
DTEND:20140128T235900
DTSTAMP:20140313T061233Z
DTSTART:20140128T235900
SUMMARY:544 Review: Blog on MR\, Join paper
UID:544-201403122312331394691153.9777810@cs.washington.edu
END:VEVENT
BEGIN:VEVENT
DESCRIPTION:5. Paralell Databases and MapReduce\nMaterials: Slides
DTEND:20140204T212000
DTSTAMP:20140313T061233Z
DTSTART:20140204T183000
LOCATION:CSE 305
SUMMARY:544 Lecture
UID:544-201403122312331394691153.9790911@cs.washington.edu
END:VEVENT
BEGIN:VEVENT
DTEND:20140204T235900
DTSTAMP:20140313T061233Z
DTSTART:20140204T235900
SUMMARY:544 Review: MapReduce
UID:544-201403122312331394691153.9796312@cs.washington.edu
END:VEVENT
BEGIN:VEVENT
DTEND:20140210T230000
DTSTAMP:20140313T061233Z
DTSTART:20140210T230000
SUMMARY:544 HW3: PigLatin on Amazon Web Services Solution
UID:544-201403122312331394691153.9800413@cs.washington.edu
END:VEVENT
BEGIN:VEVENT
DESCRIPTION:6. Transactions: Recovery (Aries)\nMaterials: Slides
DTEND:20140211T212000
DTSTAMP:20140313T061233Z
DTSTART:20140211T183000
LOCATION:CSE 305
SUMMARY:544 Lecture
UID:544-201403122312331394691153.9813314@cs.washington.edu
END:VEVENT
BEGIN:VEVENT
DTEND:20140211T235900
DTSTAMP:20140313T061233Z
DTSTART:20140211T235900
SUMMARY:544 Review: What goes around
UID:544-201403122312331394691153.9818815@cs.washington.edu
END:VEVENT
BEGIN:VEVENT
DESCRIPTION:7. Transactions: concurrency control\nMaterials: Slides
DTEND:20140218T212000
DTSTAMP:20140313T061233Z
DTSTART:20140218T183000
LOCATION:CSE 305
SUMMARY:544 Lecture
UID:544-201403122312331394691153.9831816@cs.washington.edu
END:VEVENT
BEGIN:VEVENT
DTEND:20140224T230000
DTSTAMP:20140313T061233Z
DTSTART:20140224T230000
SUMMARY:544 HW4: DB Application Solution
UID:544-201403122312331394691153.9837217@cs.washington.edu
END:VEVENT
BEGIN:VEVENT
DESCRIPTION:8. Datalog\, Provenance\nMaterials: Slides
DTEND:20140225T212000
DTSTAMP:20140313T061233Z
DTSTART:20140225T183000
LOCATION:CSE 305
SUMMARY:544 Lecture
UID:544-201403122312331394691153.9850118@cs.washington.edu
END:VEVENT
BEGIN:VEVENT
DTEND:20140225T235900
DTSTAMP:20140313T061233Z
DTSTART:20140225T235900
SUMMARY:544 Review: Imperative Declarative
UID:544-201403122312331394691153.9855619@cs.washington.edu
END:VEVENT
BEGIN:VEVENT
DESCRIPTION:9. Provenance (continued)\, Views\nMaterials: Slides
DTEND:20140304T212000
DTSTAMP:20140313T061233Z
DTSTART:20140304T183000
LOCATION:CSE 305
SUMMARY:544 Lecture
UID:544-201403122312331394691153.9868620@cs.washington.edu
END:VEVENT
BEGIN:VEVENT
DTEND:20140310T230000
DTSTAMP:20140313T061233Z
DTSTART:20140310T230000
SUMMARY:544 HW5: Transaction Theory\, Query execution\, Datalog\, Provenanc
 e Solution p.18.5
UID:544-201403122312331394691153.987421@cs.washington.edu
END:VEVENT
BEGIN:VEVENT
DESCRIPTION:10. Column Stores\, NoSQL\nMaterials: Slides
DTEND:20140311T212000
DTSTAMP:20140313T061233Z
DTSTART:20140311T183000
LOCATION:CSE 305
SUMMARY:544 Lecture
UID:544-201403122312331394691153.9886922@cs.washington.edu
END:VEVENT
BEGIN:VEVENT
DTEND:20140311T235900
DTSTAMP:20140313T061233Z
DTSTART:20140311T235900
SUMMARY:544 Review: NoSQL\, Column Store
UID:544-201403122312331394691153.9892323@cs.washington.edu
END:VEVENT
END:VCALENDAR
