BEGIN:VCALENDAR
VERSION:2.0
PRODID:createcal 1.0.16
X-WR-CALNAME:CSEP514 17wi Section A
X-WR-LOCATION:America/Los_Angeles
X-WR-TIMEZONE:America/Los_Angeles
BEGIN:VEVENT
DESCRIPTION:Sqlite practice\nMaterials: Slides Sqlite Airport GDP Populatio
 n Solution
DTEND:20170103T205000
DTSTAMP:20170308T044354Z
DTSTART:20170103T200000
LOCATION:CSE 403
SUMMARY:514 Section
UID:514-201703072043541488948234.6289803@cs.washington.edu
X-CREATECAL-EVENTTYPE:section
END:VEVENT
BEGIN:VEVENT
DESCRIPTION:Sqlite practice\nMaterials: Excercise Sqlite airport gdp popula
 tion
DTEND:20170110T205000
DTSTAMP:20170308T044354Z
DTSTART:20170110T200000
LOCATION:CSE 403
SUMMARY:514 Section
UID:514-201703072043541488948234.6325706@cs.washington.edu
X-CREATECAL-EVENTTYPE:section
END:VEVENT
BEGIN:VEVENT
DESCRIPTION:TBD
DTEND:20170117T205000
DTSTAMP:20170308T044354Z
DTSTART:20170117T200000
LOCATION:CSE 403
SUMMARY:514 Section
UID:514-201703072043541488948234.6361509@cs.washington.edu
X-CREATECAL-EVENTTYPE:section
END:VEVENT
BEGIN:VEVENT
DESCRIPTION:TBD
DTEND:20170124T205000
DTSTAMP:20170308T044354Z
DTSTART:20170124T200000
LOCATION:CSE 403
SUMMARY:514 Section
UID:514-201703072043541488948234.6407114@cs.washington.edu
X-CREATECAL-EVENTTYPE:section
END:VEVENT
BEGIN:VEVENT
DESCRIPTION:Relational Algebra practice\nMaterials: Slides Problems Solutio
 ns
DTEND:20170131T205000
DTSTAMP:20170308T044354Z
DTSTART:20170131T200000
LOCATION:CSE 403
SUMMARY:514 Section
UID:514-201703072043541488948234.6442817@cs.washington.edu
X-CREATECAL-EVENTTYPE:section
END:VEVENT
BEGIN:VEVENT
DESCRIPTION:Conceptual Schema Design\nMaterials: Slides
DTEND:20170207T205000
DTSTAMP:20170308T044354Z
DTSTART:20170207T200000
LOCATION:CSE 403
SUMMARY:514 Section
UID:514-201703072043541488948234.6490822@cs.washington.edu
X-CREATECAL-EVENTTYPE:section
END:VEVENT
BEGIN:VEVENT
DESCRIPTION:TBD
DTEND:20170214T205000
DTSTAMP:20170308T044354Z
DTSTART:20170214T200000
LOCATION:CSE 403
SUMMARY:514 Section
UID:514-201703072043541488948234.6521624@cs.washington.edu
X-CREATECAL-EVENTTYPE:section
END:VEVENT
BEGIN:VEVENT
DESCRIPTION:TBD
DTEND:20170221T205000
DTSTAMP:20170308T044354Z
DTSTART:20170221T200000
LOCATION:CSE 403
SUMMARY:514 Section
UID:514-201703072043541488948234.6562328@cs.washington.edu
X-CREATECAL-EVENTTYPE:section
END:VEVENT
BEGIN:VEVENT
DESCRIPTION:Transaction\nMaterials: Problems Solution
DTEND:20170228T205000
DTSTAMP:20170308T044354Z
DTSTART:20170228T200000
LOCATION:CSE 403
SUMMARY:514 Section
UID:514-201703072043541488948234.660332@cs.washington.edu
X-CREATECAL-EVENTTYPE:section
END:VEVENT
BEGIN:VEVENT
DESCRIPTION:TBD
DTEND:20170307T205000
DTSTAMP:20170308T044354Z
DTSTART:20170307T200000
LOCATION:CSE 403
SUMMARY:514 Section
UID:514-201703072043541488948234.6638735@cs.washington.edu
X-CREATECAL-EVENTTYPE:section
END:VEVENT
END:VCALENDAR
