BEGIN:VCALENDAR
VERSION:2.0
PRODID:createcal 1.0.16
X-WR-CALNAME:CSEP514 17wi Other
X-WR-LOCATION:America/Los_Angeles
X-WR-TIMEZONE:America/Los_Angeles
BEGIN:VEVENT
DTEND:20170103T160000
DTSTAMP:20170308T044354Z
DTSTART:20170103T150000
LOCATION:CSE021
RRULE:FREQ=WEEKLY;INTERVAL=1;UNTIL=20170310T235959;WKST=WE;BYDAY=TU
SUMMARY:514 Office Hour\, Weston
UID:514-201703072043541488948234.623500@cs.washington.edu
X-CREATECAL-EVENTTYPE:oh
END:VEVENT
BEGIN:VEVENT
DTEND:20170104T170000
DTSTAMP:20170308T044354Z
DTSTART:20170104T160000
LOCATION:CSE662
RRULE:FREQ=WEEKLY;INTERVAL=1;UNTIL=20170310T235959;WKST=WE;BYDAY=WE
SUMMARY:514 Office Hour\, Dan
UID:514-201703072043541488948234.6247501@cs.washington.edu
X-CREATECAL-EVENTTYPE:oh
END:VEVENT
END:VCALENDAR
