BEGIN:VCALENDAR
VERSION:2.0
PRODID:createcal 1.0.16
X-WR-CALNAME:CSEP514 17wi Lecture A
X-WR-LOCATION:America/Los_Angeles
X-WR-TIMEZONE:America/Los_Angeles
BEGIN:VEVENT
DESCRIPTION:1. Data models\, SQL (Basic)\nMaterials: Slides Sqlite
DTEND:20170103T195000
DTSTAMP:20170308T044354Z
DTSTART:20170103T170000
LOCATION:CSE 403
SUMMARY:514 Lecture
UID:514-201703072043541488948234.6274402@cs.washington.edu
X-CREATECAL-EVENTTYPE:lecture
END:VEVENT
BEGIN:VEVENT
DTEND:20170109T230000
DTSTAMP:20170308T044354Z
DTSTART:20170109T230000
SUMMARY:514 WQ1 due: sql (basic)
UID:514-201703072043541488948234.6296504@cs.washington.edu
X-CREATECAL-EVENTTYPE:hw
END:VEVENT
BEGIN:VEVENT
DESCRIPTION:2. SQL (Advanced)\nMaterials: Slides Sqlite Data
DTEND:20170110T195000
DTSTAMP:20170308T044354Z
DTSTART:20170110T170000
LOCATION:CSE 403
SUMMARY:514 Lecture
UID:514-201703072043541488948234.6310205@cs.washington.edu
X-CREATECAL-EVENTTYPE:lecture
END:VEVENT
BEGIN:VEVENT
DTEND:20170110T230000
DTSTAMP:20170308T044354Z
DTSTART:20170110T230000
SUMMARY:514 HW1 due: Sqlite
UID:514-201703072043541488948234.6332307@cs.washington.edu
X-CREATECAL-EVENTTYPE:hw
END:VEVENT
BEGIN:VEVENT
DESCRIPTION:3. SQL Wrapup\, Relational Algebra\nMaterials: Slides
DTEND:20170117T195000
DTSTAMP:20170308T044354Z
DTSTART:20170117T170000
LOCATION:CSE 403
SUMMARY:514 Lecture
UID:514-201703072043541488948234.6346108@cs.washington.edu
X-CREATECAL-EVENTTYPE:lecture
END:VEVENT
BEGIN:VEVENT
DTEND:20170117T230000
DTSTAMP:20170308T044354Z
DTSTART:20170117T230000
SUMMARY:514 WQ2 due: SQL (basic)
UID:514-201703072043541488948234.6368110@cs.washington.edu
X-CREATECAL-EVENTTYPE:hw
END:VEVENT
BEGIN:VEVENT
DTEND:20170118T230000
DTSTAMP:20170308T044354Z
DTSTART:20170118T230000
SUMMARY:514 HW2 due: Basic SQL
UID:514-201703072043541488948234.6373111@cs.washington.edu
X-CREATECAL-EVENTTYPE:hw
END:VEVENT
BEGIN:VEVENT
DTEND:20170123T230000
DTSTAMP:20170308T044354Z
DTSTART:20170123T230000
SUMMARY:514 WQ3 due: Nested Queries in SQL
UID:514-201703072043541488948234.637812@cs.washington.edu
X-CREATECAL-EVENTTYPE:hw
END:VEVENT
BEGIN:VEVENT
DESCRIPTION:4. Query Execution\, Indexes\nMaterials: Slides
DTEND:20170124T195000
DTSTAMP:20170308T044354Z
DTSTART:20170124T170000
LOCATION:CSE 403
SUMMARY:514 Lecture
UID:514-201703072043541488948234.6391713@cs.washington.edu
X-CREATECAL-EVENTTYPE:lecture
END:VEVENT
BEGIN:VEVENT
DTEND:20170130T230000
DTSTAMP:20170308T044354Z
DTSTART:20170130T230000
SUMMARY:514 WQ4 due: Relational Algebra
UID:514-201703072043541488948234.6413715@cs.washington.edu
X-CREATECAL-EVENTTYPE:hw
END:VEVENT
BEGIN:VEVENT
DESCRIPTION:5. Database design\nMaterials: Slides
DTEND:20170131T195000
DTSTAMP:20170308T044354Z
DTSTART:20170131T170000
LOCATION:CSE 403
SUMMARY:514 Lecture
UID:514-201703072043541488948234.6427416@cs.washington.edu
X-CREATECAL-EVENTTYPE:lecture
END:VEVENT
BEGIN:VEVENT
DTEND:20170202T180000
DTSTAMP:20170308T044354Z
DTSTART:20170202T170000
LOCATION:CSE 403
SUMMARY:514 Midterm Review
UID:514-201703072043541488948234.6450118@cs.washington.edu
X-CREATECAL-EVENTTYPE:other
END:VEVENT
BEGIN:VEVENT
DTEND:20170205T230000
DTSTAMP:20170308T044354Z
DTSTART:20170205T230000
SUMMARY:514 HW3: Advanced SQL
UID:514-201703072043541488948234.6455919@cs.washington.edu
X-CREATECAL-EVENTTYPE:hw
END:VEVENT
BEGIN:VEVENT
DTEND:20170207T180000
DTSTAMP:20170308T044354Z
DTSTART:20170207T170000
SUMMARY:514 Midterm
UID:514-201703072043541488948234.6461720@cs.washington.edu
X-CREATECAL-EVENTTYPE:exam
END:VEVENT
BEGIN:VEVENT
DESCRIPTION:5. Database design (continued)
DTEND:20170207T195000
DTSTAMP:20170308T044354Z
DTSTART:20170207T170000
LOCATION:CSE 403
SUMMARY:514 Lecture
UID:514-201703072043541488948234.6475421@cs.washington.edu
X-CREATECAL-EVENTTYPE:lecture
END:VEVENT
BEGIN:VEVENT
DESCRIPTION:6. Size Estimation\; NoSQL\, JSon\nMaterials: Slides
DTEND:20170214T195000
DTSTAMP:20170308T044354Z
DTSTART:20170214T170000
LOCATION:CSE 403
SUMMARY:514 Lecture
UID:514-201703072043541488948234.6506223@cs.washington.edu
X-CREATECAL-EVENTTYPE:lecture
END:VEVENT
BEGIN:VEVENT
DTEND:20170216T230000
DTSTAMP:20170308T044354Z
DTSTART:20170216T230000
SUMMARY:514 WQ5: Conceptual Design
UID:514-201703072043541488948234.6528225@cs.washington.edu
X-CREATECAL-EVENTTYPE:hw
END:VEVENT
BEGIN:VEVENT
DTEND:20170217T230000
DTSTAMP:20170308T044354Z
DTSTART:20170217T230000
SUMMARY:514 HW4: Conceptual Design
UID:514-201703072043541488948234.6533226@cs.washington.edu
X-CREATECAL-EVENTTYPE:hw
END:VEVENT
BEGIN:VEVENT
DESCRIPTION:7. Beyond Relational: Nested Data Model\, JSON\, SQL++\nMateria
 ls: Slides
DTEND:20170221T195000
DTSTAMP:20170308T044354Z
DTSTART:20170221T170000
LOCATION:CSE 403
SUMMARY:514 Lecture
UID:514-201703072043541488948234.6546927@cs.washington.edu
X-CREATECAL-EVENTTYPE:lecture
END:VEVENT
BEGIN:VEVENT
DTEND:20170227T230000
DTSTAMP:20170308T044354Z
DTSTART:20170227T230000
SUMMARY:514 HW5: JSon and SQL++
UID:514-201703072043541488948234.6568829@cs.washington.edu
X-CREATECAL-EVENTTYPE:hw
END:VEVENT
BEGIN:VEVENT
DTEND:20170227T230000
DTSTAMP:20170308T044354Z
DTSTART:20170227T230000
SUMMARY:514 WQ6: XML/Json
UID:514-201703072043541488948234.6573930@cs.washington.edu
X-CREATECAL-EVENTTYPE:hw
END:VEVENT
BEGIN:VEVENT
DESCRIPTION:8. JDBC\, Transactions (basics)\nMaterials: Slides Sqlite examp
 les
DTEND:20170228T195000
DTSTAMP:20170308T044354Z
DTSTART:20170228T170000
LOCATION:CSE 403
SUMMARY:514 Lecture
UID:514-201703072043541488948234.6587631@cs.washington.edu
X-CREATECAL-EVENTTYPE:lecture
END:VEVENT
BEGIN:VEVENT
DTEND:20170306T230000
DTSTAMP:20170308T044354Z
DTSTART:20170306T230000
SUMMARY:514 WQ7: Transactions
UID:514-201703072043541488948234.6609633@cs.washington.edu
X-CREATECAL-EVENTTYPE:hw
END:VEVENT
BEGIN:VEVENT
DESCRIPTION:9. Data cleaning\nMaterials: Slides Data Cleaning Tutorial ER T
 utorial
DTEND:20170307T195000
DTSTAMP:20170308T044354Z
DTSTART:20170307T170000
LOCATION:CSE 403
SUMMARY:514 Lecture
UID:514-201703072043541488948234.6623434@cs.washington.edu
X-CREATECAL-EVENTTYPE:lecture
END:VEVENT
BEGIN:VEVENT
DTEND:20170312T230000
DTSTAMP:20170308T044354Z
DTSTART:20170312T230000
SUMMARY:514 HW6: Database Application and Transactions
UID:514-201703072043541488948234.6645236@cs.washington.edu
X-CREATECAL-EVENTTYPE:hw
END:VEVENT
BEGIN:VEVENT
DTEND:20170314T190000
DTSTAMP:20170308T044354Z
DTSTART:20170314T170000
SUMMARY:514 Final exam
UID:514-201703072043541488948234.6650937@cs.washington.edu
X-CREATECAL-EVENTTYPE:exam
END:VEVENT
END:VCALENDAR
