BEGIN:VCALENDAR
VERSION:2.0
PRODID:createcal 1.0.16
X-WR-CALNAME:CSE481\,599 16sp Other
X-WR-LOCATION:America/Los_Angeles
X-WR-TIMEZONE:America/Los_Angeles
BEGIN:VEVENT
DTEND:20160328T173000
DTSTAMP:20160520T230623Z
DTSTART:20160328T153000
EXDATE:20160328T153000
LOCATION:SIEG 326/327
RRULE:FREQ=WEEKLY;INTERVAL=1;UNTIL=20160603T235959;WKST=WE;BYDAY=MO
SUMMARY:481\,599 OH (Alain)
UID:481\,599-201605201606231463785583.0882502@cs.washington.edu
X-CREATECAL-EVENTTYPE:oh
END:VEVENT
BEGIN:VEVENT
DTEND:20160329T140000
DTSTAMP:20160520T230623Z
DTSTART:20160329T130000
EXDATE:20160329T130000
LOCATION:SIEG 326/327
RRULE:FREQ=WEEKLY;INTERVAL=1;UNTIL=20160603T235959;WKST=WE;BYDAY=TU
SUMMARY:481\,599 OH (Alain)
UID:481\,599-201605201606231463785583.0892303@cs.washington.edu
X-CREATECAL-EVENTTYPE:oh
END:VEVENT
BEGIN:VEVENT
DTEND:20160329T172000
DTSTAMP:20160520T230623Z
DTSTART:20160329T153000
EXDATE:20160329T153000
LOCATION:SIEG 326/327
RRULE:FREQ=WEEKLY;INTERVAL=1;UNTIL=20160603T235959;WKST=WE;BYDAY=TU
SUMMARY:481\,599 OH (Aditya)
UID:481\,599-201605201606231463785583.0901804@cs.washington.edu
X-CREATECAL-EVENTTYPE:oh
END:VEVENT
BEGIN:VEVENT
DTEND:20160330T143000
DTSTAMP:20160520T230623Z
DTSTART:20160330T133000
EXDATE:20160330T133000
LOCATION:SIEG 326/327
RRULE:FREQ=WEEKLY;INTERVAL=1;UNTIL=20160603T235959;WKST=WE;BYDAY=WE
SUMMARY:481\,599 OH (Aditya)
UID:481\,599-201605201606231463785583.0911305@cs.washington.edu
X-CREATECAL-EVENTTYPE:oh
END:VEVENT
BEGIN:VEVENT
DTEND:20160330T153000
DTSTAMP:20160520T230623Z
DTSTART:20160330T133000
EXDATE:20160330T133000
LOCATION:SIEG 326/327
RRULE:FREQ=WEEKLY;INTERVAL=1;UNTIL=20160603T235959;WKST=WE;BYDAY=WE
SUMMARY:481\,599 OH (Supasorn)
UID:481\,599-201605201606231463785583.0920706@cs.washington.edu
X-CREATECAL-EVENTTYPE:oh
END:VEVENT
BEGIN:VEVENT
DTEND:20160330T173000
DTSTAMP:20160520T230623Z
DTSTART:20160330T153000
EXDATE:20160330T153000
LOCATION:SIEG 326/327
RRULE:FREQ=WEEKLY;INTERVAL=1;UNTIL=20160603T235959;WKST=WE;BYDAY=WE
SUMMARY:481\,599 OH (Drew)
UID:481\,599-201605201606231463785583.0930207@cs.washington.edu
X-CREATECAL-EVENTTYPE:oh
END:VEVENT
BEGIN:VEVENT
DTEND:20160331T143000
DTSTAMP:20160520T230623Z
DTSTART:20160331T133000
LOCATION:SIEG 326/327
RRULE:FREQ=WEEKLY;INTERVAL=1;UNTIL=20160603T235959;WKST=WE;BYDAY=TH
SUMMARY:481\,599 OH (Drew)
UID:481\,599-201605201606231463785583.0938608@cs.washington.edu
X-CREATECAL-EVENTTYPE:oh
END:VEVENT
BEGIN:VEVENT
DTEND:20160401T120000
DTSTAMP:20160520T230623Z
DTSTART:20160401T110000
LOCATION:SIEG 326/327
RRULE:FREQ=WEEKLY;INTERVAL=1;UNTIL=20160603T235959;WKST=WE;BYDAY=FR
SUMMARY:481\,599 OH (Supasorn)
UID:481\,599-201605201606231463785583.0946709@cs.washington.edu
X-CREATECAL-EVENTTYPE:oh
END:VEVENT
END:VCALENDAR
