BEGIN:VCALENDAR
VERSION:2.0
PRODID:createcal 1.0.16
X-WR-CALNAME:CSE481\,599 16sp Lecture V
X-WR-LOCATION:America/Los_Angeles
X-WR-TIMEZONE:America/Los_Angeles
BEGIN:VEVENT
DTEND:20160331T235900
DTSTAMP:20160520T230623Z
DTSTART:20160331T235900
EXDATE:20160331T235900\,20160407T235900
RRULE:FREQ=WEEKLY;INTERVAL=1;UNTIL=20160603T235959;WKST=WE;BYDAY=TH
SUMMARY:481\,599 Weekly Team Webpage blog update due
UID:481\,599-201605201606231463785583.0860600@cs.washington.edu
X-CREATECAL-EVENTTYPE:hw
END:VEVENT
BEGIN:VEVENT
DTEND:20160330T163000
DTSTAMP:20160520T230623Z
DTSTART:20160330T133000
EXDATE:20160330T133000\,20160406T133000\,20160413T133000\,20160427T133000
RRULE:FREQ=WEEKLY;INTERVAL=1;UNTIL=20160603T235959;WKST=WE;BYDAY=WE
SUMMARY:481\,599 Weekly 1-1 with Staff
UID:481\,599-201605201606231463785583.0873401@cs.washington.edu
X-CREATECAL-EVENTTYPE:hw
END:VEVENT
BEGIN:VEVENT
DESCRIPTION:Nick Whiting (Technical Director\, Epic Games)\n The Making of 
 Bullet Train *\n *closed--only for enrolled students Lecture Slide: VR Int
 ro
DTEND:20160329T115000
DTSTAMP:20160520T230623Z
DTSTART:20160329T103000
LOCATION:CSE 305
SUMMARY:481\,599 Lecture
UID:481\,599-201605201606231463785583.1067710@cs.washington.edu
X-CREATECAL-EVENTTYPE:lecture
END:VEVENT
BEGIN:VEVENT
DTEND:20160404T235900
DTSTAMP:20160520T230623Z
DTSTART:20160404T235900
SUMMARY:481\,599 Post initial proposals to discussion board as per Aditya's
  instructions. Earlier is better--we'll provide feedback sooner if you pos
 t now.
UID:481\,599-201605201606231463785583.1084612@cs.washington.edu
X-CREATECAL-EVENTTYPE:hw
END:VEVENT
BEGIN:VEVENT
DESCRIPTION:Brian Murphy (Microsoft XBOX) 4 Years Sculpting With Light
DTEND:20160405T115000
DTSTAMP:20160520T230623Z
DTSTART:20160405T103000
LOCATION:THO 101
SUMMARY:481\,599 Lecture
UID:481\,599-201605201606231463785583.109513@cs.washington.edu
X-CREATECAL-EVENTTYPE:lecture
END:VEVENT
BEGIN:VEVENT
DTEND:20160406T172000
DTSTAMP:20160520T230623Z
DTSTART:20160406T133000
LOCATION:CSE 403
SUMMARY:481\,599 In-Person Project Pitch DURING lab time
UID:481\,599-201605201606231463785583.1110815@cs.washington.edu
X-CREATECAL-EVENTTYPE:other
END:VEVENT
BEGIN:VEVENT
DTEND:20160406T183000
DTSTAMP:20160520T230623Z
DTSTART:20160406T153000
SUMMARY:481\,599 Weekly 1-1 with Staff
UID:481\,599-201605201606231463785583.1114916@cs.washington.edu
X-CREATECAL-EVENTTYPE:hw
END:VEVENT
BEGIN:VEVENT
DTEND:20160407T235900
DTSTAMP:20160520T230623Z
DTSTART:20160407T235900
SUMMARY:481\,599 Project Proposal Due
UID:481\,599-201605201606231463785583.111817@cs.washington.edu
X-CREATECAL-EVENTTYPE:other
END:VEVENT
BEGIN:VEVENT
DTEND;VALUE=DATE:20160408
DTSTART;VALUE=DATE:20160407
SUMMARY:481\,599 Team Webpage Up and Running
UID:481\,599-201605201606231463785583.1120818@cs.washington.edu
X-CREATECAL-EVENTTYPE:hw
END:VEVENT
BEGIN:VEVENT
DESCRIPTION:Ashraf Michail (Partner Software Architect\, Microsoft)\n HoloL
 ens – From Product Vision to Reality
DTEND:20160412T115000
DTSTAMP:20160520T230623Z
DTSTART:20160412T103000
LOCATION:THO 101
SUMMARY:481\,599 Lecture
UID:481\,599-201605201606231463785583.1130419@cs.washington.edu
X-CREATECAL-EVENTTYPE:lecture
END:VEVENT
BEGIN:VEVENT
DTEND:20160414T235900
DTSTAMP:20160520T230623Z
DTSTART:20160414T235900
SUMMARY:481\,599 Project PRD and Video Due
UID:481\,599-201605201606231463785583.1145621@cs.washington.edu
X-CREATECAL-EVENTTYPE:other
END:VEVENT
BEGIN:VEVENT
DESCRIPTION:Clay Bavor (Virtual Reality VP\, Google)
DTEND:20160419T115000
DTSTAMP:20160520T230623Z
DTSTART:20160419T103000
LOCATION:THO 101
SUMMARY:481\,599 Lecture
UID:481\,599-201605201606231463785583.1155522@cs.washington.edu
X-CREATECAL-EVENTTYPE:lecture
END:VEVENT
BEGIN:VEVENT
DESCRIPTION:Steve Sullivan (Partner Architect\, Microsoft)
DTEND:20160426T115000
DTSTAMP:20160520T230623Z
DTSTART:20160426T103000
LOCATION:THO 101
SUMMARY:481\,599 Lecture
UID:481\,599-201605201606231463785583.1177324@cs.washington.edu
X-CREATECAL-EVENTTYPE:lecture
END:VEVENT
BEGIN:VEVENT
DESCRIPTION:Michael Abrash (Chief Scientist\, Oculus)
DTEND:20160503T115000
DTSTAMP:20160520T230623Z
DTSTART:20160503T103000
LOCATION:THO 101
SUMMARY:481\,599 Lecture
UID:481\,599-201605201606231463785583.1199326@cs.washington.edu
X-CREATECAL-EVENTTYPE:lecture
END:VEVENT
BEGIN:VEVENT
DESCRIPTION:Teams Progress Reports
DTEND:20160510T115000
DTSTAMP:20160520T230623Z
DTSTART:20160510T103000
LOCATION:CSE 305
SUMMARY:481\,599 Lecture
UID:481\,599-201605201606231463785583.1221128@cs.washington.edu
X-CREATECAL-EVENTTYPE:lecture
END:VEVENT
BEGIN:VEVENT
DTEND:20160510T115000
DTSTAMP:20160520T230623Z
DTSTART:20160510T103000
SUMMARY:481\,599 7 minute Presentation/Progess report to the class
UID:481\,599-201605201606231463785583.1225729@cs.washington.edu
X-CREATECAL-EVENTTYPE:exam
END:VEVENT
BEGIN:VEVENT
DESCRIPTION:Michael Gourlay (Microsoft)\n Insider Tips for Developing on Vi
 rtual and Augmented Reality Platforms
DTEND:20160517T115000
DTSTAMP:20160520T230623Z
DTSTART:20160517T103000
LOCATION:THO 101
SUMMARY:481\,599 Lecture
UID:481\,599-201605201606231463785583.124731@cs.washington.edu
X-CREATECAL-EVENTTYPE:lecture
END:VEVENT
BEGIN:VEVENT
DESCRIPTION:Drew Skillman & Patrick Hackett\, Tiltbrush (Google)
DTEND:20160524T115000
DTSTAMP:20160520T230623Z
DTSTART:20160524T103000
LOCATION:THO 101
SUMMARY:481\,599 Lecture
UID:481\,599-201605201606231463785583.1269433@cs.washington.edu
X-CREATECAL-EVENTTYPE:lecture
END:VEVENT
BEGIN:VEVENT
DESCRIPTION:Neal Stephenson (Author and Chief Futurist\, Magic Leap)
DTEND:20160531T115000
DTSTAMP:20160520T230623Z
DTSTART:20160531T103000
LOCATION:THO 101
SUMMARY:481\,599 Lecture
UID:481\,599-201605201606231463785583.1291335@cs.washington.edu
X-CREATECAL-EVENTTYPE:lecture
END:VEVENT
BEGIN:VEVENT
DTEND:20160602T200000
DTSTAMP:20160520T230623Z
DTSTART:20160602T160000
SUMMARY:481\,599 Final Demo Rehearsal
UID:481\,599-201605201606231463785583.1306937@cs.washington.edu
X-CREATECAL-EVENTTYPE:other
END:VEVENT
BEGIN:VEVENT
DTEND:20160608T235900
DTSTAMP:20160520T230623Z
DTSTART:20160608T235900
SUMMARY:481\,599 Final Demo Videos Due
UID:481\,599-201605201606231463785583.1310238@cs.washington.edu
X-CREATECAL-EVENTTYPE:other
END:VEVENT
BEGIN:VEVENT
DTEND:20160609T183000
DTSTAMP:20160520T230623Z
DTSTART:20160609T143000
SUMMARY:481\,599 Final Demos
UID:481\,599-201605201606231463785583.1313739@cs.washington.edu
X-CREATECAL-EVENTTYPE:exam
END:VEVENT
BEGIN:VEVENT
DTEND:20160610T140000
DTSTAMP:20160520T230623Z
DTSTART:20160610T140000
SUMMARY:481\,599 Final Peer Review Due
UID:481\,599-201605201606231463785583.1316840@cs.washington.edu
X-CREATECAL-EVENTTYPE:other
END:VEVENT
END:VCALENDAR
