BEGIN:VCALENDAR
VERSION:2.0
PRODID:createcal 1.0.16
X-WR-CALNAME:CSE481\,599 16sp Lab 1
X-WR-LOCATION:America/Los_Angeles
X-WR-TIMEZONE:America/Los_Angeles
BEGIN:VEVENT
DESCRIPTION:Nathan Martz (Google) Unity tutorial
DTEND:20160330T172000
DTSTAMP:20160520T230623Z
DTSTART:20160330T133000
LOCATION:CSE 305
SUMMARY:481\,599 Lab
UID:481\,599-201605201606231463785583.1079911@cs.washington.edu
X-CREATECAL-EVENTTYPE:lab
END:VEVENT
BEGIN:VEVENT
DESCRIPTION:Chris White (Microsoft)  HoloLens Academy 1st Tutorial Origami 
 \nRemember to bring personal headphones for tutorial!
DTEND:20160406T172000
DTSTAMP:20160520T230623Z
DTSTART:20160406T133000
LOCATION:SIEG 326/327
SUMMARY:481\,599 Lab
UID:481\,599-201605201606231463785583.110614@cs.washington.edu
X-CREATECAL-EVENTTYPE:lab
END:VEVENT
BEGIN:VEVENT
DESCRIPTION:Trip to HoloLens Academy (Redmond)\, 2nd Tutorial
DTEND:20160413T172000
DTSTAMP:20160520T230623Z
DTSTART:20160413T133000
LOCATION:SIEG 326/327
SUMMARY:481\,599 Lab
UID:481\,599-201605201606231463785583.1141420@cs.washington.edu
X-CREATECAL-EVENTTYPE:lab
END:VEVENT
BEGIN:VEVENT
DESCRIPTION:Work on project
DTEND:20160420T172000
DTSTAMP:20160520T230623Z
DTSTART:20160420T133000
LOCATION:SIEG 326/327
SUMMARY:481\,599 Lab
UID:481\,599-201605201606231463785583.1166423@cs.washington.edu
X-CREATECAL-EVENTTYPE:lab
END:VEVENT
BEGIN:VEVENT
DESCRIPTION:Trip to Microsoft Production Studios (Redmond)\, 3D Capture Ses
 sion
DTEND:20160427T172000
DTSTAMP:20160520T230623Z
DTSTART:20160427T133000
LOCATION:SIEG 326/327
SUMMARY:481\,599 Lab
UID:481\,599-201605201606231463785583.1188425@cs.washington.edu
X-CREATECAL-EVENTTYPE:lab
END:VEVENT
BEGIN:VEVENT
DESCRIPTION:Work on project
DTEND:20160504T172000
DTSTAMP:20160520T230623Z
DTSTART:20160504T133000
LOCATION:SIEG 326/327
SUMMARY:481\,599 Lab
UID:481\,599-201605201606231463785583.1210227@cs.washington.edu
X-CREATECAL-EVENTTYPE:lab
END:VEVENT
BEGIN:VEVENT
DESCRIPTION:Work on project
DTEND:20160511T172000
DTSTAMP:20160520T230623Z
DTSTART:20160511T133000
LOCATION:SIEG 326/327
SUMMARY:481\,599 Lab
UID:481\,599-201605201606231463785583.1235630@cs.washington.edu
X-CREATECAL-EVENTTYPE:lab
END:VEVENT
BEGIN:VEVENT
DESCRIPTION:Work on project
DTEND:20160518T172000
DTSTAMP:20160520T230623Z
DTSTART:20160518T133000
LOCATION:SIEG 326/327
SUMMARY:481\,599 Lab
UID:481\,599-201605201606231463785583.1258632@cs.washington.edu
X-CREATECAL-EVENTTYPE:lab
END:VEVENT
BEGIN:VEVENT
DESCRIPTION:Work on project
DTEND:20160525T172000
DTSTAMP:20160520T230623Z
DTSTART:20160525T133000
LOCATION:SIEG 326/327
SUMMARY:481\,599 Lab
UID:481\,599-201605201606231463785583.1280434@cs.washington.edu
X-CREATECAL-EVENTTYPE:lab
END:VEVENT
BEGIN:VEVENT
DESCRIPTION:Work on project
DTEND:20160601T172000
DTSTAMP:20160520T230623Z
DTSTART:20160601T133000
LOCATION:SIEG 326/327
SUMMARY:481\,599 Lab
UID:481\,599-201605201606231463785583.1302336@cs.washington.edu
X-CREATECAL-EVENTTYPE:lab
END:VEVENT
END:VCALENDAR
